BEGIN:VCALENDAR
VERSION:2.0
PRODID:icalendar-ruby
CALSCALE:GREGORIAN
X-WR-TIMEZONE:Europe/Helsinki
BEGIN:VTIMEZONE
TZID:Europe/Helsinki
BEGIN:DAYLIGHT
DTSTART:20260329T040000
TZOFFSETFROM:+0200
TZOFFSETTO:+0300
RRULE:FREQ=YEARLY;BYDAY=-1SU;BYMONTH=3
TZNAME:EEST
END:DAYLIGHT
BEGIN:STANDARD
DTSTART:20261025T030000
TZOFFSETFROM:+0300
TZOFFSETTO:+0200
RRULE:FREQ=YEARLY;BYDAY=-1SU;BYMONTH=10
TZNAME:EET
END:STANDARD
END:VTIMEZONE
BEGIN:VEVENT
DTSTAMP:20260425T194028
UID:viipurinreipas.myclub.fi-10657596
DTSTART;TZID=Europe/Helsinki:20260518T170000
DTEND;TZID=Europe/Helsinki:20260518T193000
DESCRIPTION:Tule tutustumaan voimisteluharrastukseen!\nJärjestämme avoime
 n ja maksuttoman harjoituksen niille\, jotka eivät ole aiemmin olleet toi
 minnassamme mukana.\nIlmoittaudu ryhmään iän mukaan.\nMukaan voimistelu
 harjoitukseen tarvitset: joustavat vaatteet sekä juomapullon.\nTervetuloa
  mukaan!\n\nhttps://viipurinreipas.myclub.fi/flow/events/10657596
LOCATION:Mustankallion tunnelin voimistelusali\, Tunnelikatu 4\, 15140 Laht
 i
SEQUENCE:0
SUMMARY:Viipurin Reipas Ry: Tutustumisharjoitus uusille voimistelijoille
URL;VALUE=URI:https://viipurinreipas.myclub.fi/flow/events/10657596
END:VEVENT
END:VCALENDAR
